BEGIN:VCALENDAR
VERSION:2.0
PRODID:-//Temac S.A. - ECPv6.15.15//NONSGML v1.0//EN
CALSCALE:GREGORIAN
METHOD:PUBLISH
X-WR-CALNAME:Temac S.A.
X-ORIGINAL-URL:https://temac.com.uy
X-WR-CALDESC:Eventos para Temac S.A.
REFRESH-INTERVAL;VALUE=DURATION:PT1H
X-Robots-Tag:noindex
X-PUBLISHED-TTL:PT1H
BEGIN:VTIMEZONE
TZID:America/Montevideo
BEGIN:STANDARD
TZOFFSETFROM:-0300
TZOFFSETTO:-0300
TZNAME:-03
DTSTART:20240101T000000
END:STANDARD
END:VTIMEZONE
BEGIN:VEVENT
DTSTART;TZID=America/Montevideo:20250217T080000
DTEND;TZID=America/Montevideo:20250227T130000
DTSTAMP:20260419T185125
CREATED:20250211T145232Z
LAST-MODIFIED:20250211T145232Z
UID:12017-1739779200-1740661200@temac.com.uy
SUMMARY:NEUMÁTICA Y ELECTRO-NEUMÁTICA 2025 | 17/02/-27/02 | TEMAC DIDACTIC URUGUAY
DESCRIPTION:  \n⚠️Cupos limitados⚠️\nCAPACITACIÓN Neumática y Electro-neumática \n📌INSCRIPCIONES abiertas abonando HASTA el 15/02/25. \nIncluye todo el material didáctico y CERTIFICACIÓN. \n📌COMIENZO: 17/02/25 – FIN: 27/02/25. \n📍UBICACIÓN: Montevideo\, Isabela 3264 (sala de capacitación de la empresa) \n📌HORARIO:\nVespertino: 08:00-13:00. \n📌DURACIÓN:\n40 hs. \nConsultar por otras fechas y horarios. \n📌FORMAS DE PAGO:\n*Contado.\n*Transferencia bancaria.\n*Mercado Pago. \n✅CONTENIDO ESQUEMÁTICO: \n• Construcción\, funcionamiento de cilindros\, válvulas y tipos de accionamiento de válvulas y electroválvulas de vías.\n• Confección de esquemas de funcionamiento.\n• Análisis y evaluación de esquemas de distribución.\n• Diferencia entre una unidad de función lógica y una unidad de mando.\n• Medición de la presión en sistemas de control neumáticos.\n• Diferenciación entre tipos de regulación y estrangulación.\n• Utilización según requisitos de la aplicación.\n• Tipos de memorización de señales.\n• Explicación y configuración de circuitos de\nauto retención\, detección de posiciones. Cálculo de las fuerzas.\n• Diversos tipos de control de posiciones.\n• Circuitos de autorretención de diverso comportamiento.\n• Explicación de diagramas de fases y pasos. \n👉Por inscripciones/consultas:\n📩Correo: didactica@temac.com.uy.\n📲WhatsApp: 099 709 098. \n#temacuy #somostemac #ingenieriauruguay #solucionesindustriales #festo #kaeser #calidaddeaire #automatismos #neumatica #electroneumatica
URL:https://temac.com.uy/curso/neumatica-y-electro-neumatica-2025-17-02-27-02-temac-didactic-uruguay/
LOCATION:Temac S..A.\, Isabela 3264\, Montevideo\, Uruguay
CATEGORIES:Cursos,Neumática y Electroneumática
ATTACH;FMTTYPE=image/jpeg:https://temac.com.uy/wp-content/uploads/2025/02/NEUM.jpg
ORGANIZER;CN="Jos%C3%A9 Romay":MAILTO:didactica@temac.com.uy
END:VEVENT
END:VCALENDAR