BEGIN:VCALENDAR
VERSION:2.0
PRODID:-//Temac S.A. - ECPv6.15.15//NONSGML v1.0//EN
CALSCALE:GREGORIAN
METHOD:PUBLISH
X-ORIGINAL-URL:https://temac.com.uy
X-WR-CALDESC:Eventos para Temac S.A.
REFRESH-INTERVAL;VALUE=DURATION:PT1H
X-Robots-Tag:noindex
X-PUBLISHED-TTL:PT1H
BEGIN:VTIMEZONE
TZID:America/Montevideo
BEGIN:STANDARD
TZOFFSETFROM:-0300
TZOFFSETTO:-0300
TZNAME:-03
DTSTART:20230101T000000
END:STANDARD
END:VTIMEZONE
BEGIN:VEVENT
DTSTART;TZID=America/Montevideo:20240229T083000
DTEND;TZID=America/Montevideo:20240314T130000
DTSTAMP:20260420T201031
CREATED:20240207T134749Z
LAST-MODIFIED:20240207T135144Z
UID:11294-1709195400-1710421200@temac.com.uy
SUMMARY:CURSO NEUMÁTICA Y ELECTRONEUMÁTICA URUGUAY – 29/2/24 AL 14/3/24 – TEMAC DIDACTIC
DESCRIPTION:  \n⚠️Cupos limitados⚠️\nCAPACITACIÓN presencial Neumática y Electro-neumática. \n📌INSCRIPCIONES abiertas abonando HASTA el 23/2/24. \nIncluye todo el material didáctico y CERTIFICACIÓN. \n📌COMIENZO: 29/2/24 – FIN: 14/3/24. \n📍UBICACIÓN: Montevideo\, Isabela 3264 (sala de capacitación de la empresa) \n📌HORARIO:\nDe 08:30-13:00. \n📌DURACIÓN:\n40 hs. \nConsultar por otras fechas y horarios. \n📌FORMAS DE PAGO:\n*Contado.\n*Transferencia bancaria.\n*Mercado Pago. \n✅CONTENIDO ESQUEMÁTICO:\n• Construcción\, funcionamiento de cilindros\,\nválvulas y tipos de accionamiento de válvulas y\nelectroválvulas de vías.\n• Confección de esquemas de funcionamiento.\n• Análisis y evaluación de esquemas de\ndistribución.\n• Diferencia entre una unidad de función lógica y\nuna unidad de mando.\n• Medición de la presión en sistemas de control\nneumáticos.\n• Diferenciación entre tipos de regulación y\nestrangulación.\n• Utilización según requisitos de la aplicación.\n• Tipos de memorización de señales.\n• Explicación y configuración de circuitos de\nauto retención\, detección de posiciones. Cálculo\nde las fuerzas.\n• Diversos tipos de control de posiciones.\n• Circuitos de autorretención de diverso\ncomportamiento.\n• Explicación de diagramas de fases y pasos. \n👉Por inscripciones/consultas:\n📩Correo: didactica@temac.com.uy.\n📲WhatsApp: 099 709 098. \n#temacuy #somostemac #ingenieriauruguay #solucionesindustriales #festo #kaeser #calidaddeaire #automatismos #neumatica #electroneumatica
URL:https://temac.com.uy/curso/curso-neumatica-y-electroneumatica-uruguay-29-2-24-al-14-3-24-temac-didactic/
CATEGORIES:Capacitación,Cursos,Neumática y Electroneumática
ATTACH;FMTTYPE=image/jpeg:https://temac.com.uy/wp-content/uploads/2024/02/photo_2024-02-07_10-09-09.jpg
ORGANIZER;CN="Jos%C3%A9 Romay":MAILTO:didactica@temac.com.uy
END:VEVENT
END:VCALENDAR