BEGIN:VCALENDAR
VERSION:2.0
PRODID:-//Temac S.A. - ECPv6.15.15//NONSGML v1.0//EN
CALSCALE:GREGORIAN
METHOD:PUBLISH
X-ORIGINAL-URL:https://temac.com.uy
X-WR-CALDESC:Eventos para Temac S.A.
REFRESH-INTERVAL;VALUE=DURATION:PT1H
X-Robots-Tag:noindex
X-PUBLISHED-TTL:PT1H
BEGIN:VTIMEZONE
TZID:America/Montevideo
BEGIN:STANDARD
TZOFFSETFROM:-0300
TZOFFSETTO:-0300
TZNAME:-03
DTSTART:20250101T000000
END:STANDARD
END:VTIMEZONE
BEGIN:VEVENT
DTSTART;TZID=America/Montevideo:20260219T110000
DTEND;TZID=America/Montevideo:20260219T120000
DTSTAMP:20260420T035929
CREATED:20260211T022621Z
LAST-MODIFIED:20260211T023026Z
UID:12765-1771498800-1771502400@temac.com.uy
SUMMARY:WEBINAR IFM: SENSORES DE POSICIÓN\, LOS SENTIDOS DE LAS MÁQUINAS - TEMAC S.A.
DESCRIPTION:La selección correcta de sensores ifm es una parte fundamental en cualquier sistema de automatización industrial. Detectar presencia\, posición o distancia con precisión permite mejorar la eficiencia\, reducir errores y asegurar la continuidad de los procesos productivos. \nPor eso\, en TEMAC S.A. realizamos el webinar técnico “Sensores de posición\, los sentidos de las máquinas”\, una instancia orientada a profesionales\, técnicos y empresas que buscan comprender mejor qué tipo de sensor utilizar en cada aplicación industrial. \nDurante la capacitación se abordan tecnologías como sensores inductivos\, capacitivos\, ultrasónicos y ópticos\, junto con ejemplos prácticos de aplicación en procesos reales. El objetivo es brindar criterios claros de selección para mejorar la confiabilidad y el rendimiento de las instalaciones. \n📅 Fecha: 19 de febrero – 11:00 . 12:00 hs. (Uruguay)\n📩 Cupos limitados – Haz clic aquí para inscribirte \nEstas instancias forman parte del compromiso de TEMAC S.A. con la formación técnica continua y el acompañamiento a la industria uruguaya\, aportando conocimiento aplicado para optimizar cada proceso. \nPara más información o asesoramiento técnico personalizado:\n📩 ventas@temac.com.uy\n📲 092 662 057 \nSomos eficiencia. Somos TEMAC S.A.
URL:https://temac.com.uy/curso/webinar-ifm-sensores-de-posicion-los-sentidos-de-las-maquinas-temac-s-a/
LOCATION:WEB\, WEB\, https://www.ifm.com/gb/en/shared/events/webinar/food-safety\, Uruguay
CATEGORIES:Automatización Industrial,ifm,Webinar
ATTACH;FMTTYPE=image/jpeg:https://temac.com.uy/wp-content/uploads/2026/02/photo_2026-02-10_23-07-51.jpg
END:VEVENT
END:VCALENDAR