BEGIN:VCALENDAR
VERSION:2.0
PRODID:-//Temac S.A. - ECPv6.15.15//NONSGML v1.0//EN
CALSCALE:GREGORIAN
METHOD:PUBLISH
X-WR-CALNAME:Temac S.A.
X-ORIGINAL-URL:https://temac.com.uy
X-WR-CALDESC:Eventos para Temac S.A.
REFRESH-INTERVAL;VALUE=DURATION:PT1H
X-Robots-Tag:noindex
X-PUBLISHED-TTL:PT1H
BEGIN:VTIMEZONE
TZID:America/Montevideo
BEGIN:STANDARD
TZOFFSETFROM:-0300
TZOFFSETTO:-0300
TZNAME:-03
DTSTART:20240101T000000
END:STANDARD
END:VTIMEZONE
BEGIN:VEVENT
DTSTART;TZID=America/Montevideo:20250929T083000
DTEND;TZID=America/Montevideo:20251010T123000
DTSTAMP:20260420T122254
CREATED:20250903T024402Z
LAST-MODIFIED:20250903T024402Z
UID:12632-1759134600-1760099400@temac.com.uy
SUMMARY:HIDRÁULICA INDUSTRIAL Y MANTENIMIENTO - CURSO TÉCNICO URUGUAY - TEMAC DIDACTIC
DESCRIPTION:  \n  \n⚠️Cupos limitados⚠️ \nCAPACITACIÓN Hidráulica Industrial y Mantenimiento. \n📌INSCRIPCIONES abiertas abonando HASTA el 24/09/25. \n👉Si sos empresa\, trabajador dependiente o incluso estás en TSD\, podés solicitar subsidios a través de INEFOP para capacitarte con nosotros. \nIncluye todo el material didáctico y CERTIFICACIÓN. \n📌COMIENZO: 29/09/25 – FIN: 10/10/25. \n📍UBICACIÓN: Montevideo\, Isabela 3264 (sala de capacitación de la empresa) \n📌HORARIO:\nVespertino: 08:30-12:30. \n📌DURACIÓN:\n40 hs. \nConsultar por otras fechas y horarios. \n📌FORMAS DE PAGO:\n*Contado.\n*Transferencia bancaria.\n*Mercado Pago. \n✅CONTENIDO ESQUEMÁTICO:\n• Funciones de un equipo hidráulico.\n• Fundamentos físicos de la hidráulica.\n• Fluidos a presión.\n• Componentes de un alimentador de: accionamiento\, bomba\, acoplamiento\, depósito\, filtro\, calefacción\, etc.\n• Medición de la presión en sistemas de control neumáticos.\n• Actuadores.\n• Tipos y valores característicos de válvulas hidráulicas.\n• Válvulas reguladoras de presión.\n• Válvulas distribuidoras.\n• Válvulas de anti retorno.\n• Válvulas de caudal.\n• Válvulas porporcionales.\n• Accesorios.\n• Descripciones de secuencias de trabajos de máquinas y equipos.\n• Estructuras de los esquemas de circuitos: esquema de distribución hidráulico y esquema eléctrico.\n• Símbolos. \n👉Por inscripciones/consultas:\n📩Correo: didactica@temac.com.uy.\n📲WhatsApp: 099 709 098. \n#temacuy #somostemac #ingenieriauruguay #solucionesindustriales #festo #kaeser #calidaddeaire #automatismos #neumatica #electroneumatica
URL:https://temac.com.uy/curso/hidraulica-industrial-y-mantenimiento-curso-tecnico-uruguay-temac-didactic/
LOCATION:Temac S..A.\, Isabela 3264\, Montevideo\, Uruguay
CATEGORIES:Cursos,Hidráulica Industrial y Mantenimiento
ATTACH;FMTTYPE=image/jpeg:https://temac.com.uy/wp-content/uploads/2025/09/photo_2025-09-02_23-26-21-1.jpg
ORGANIZER;CN="Jos%C3%A9 Romay":MAILTO:didactica@temac.com.uy
END:VEVENT
END:VCALENDAR