BEGIN:VCALENDAR
VERSION:2.0
PRODID:-//Temac S.A. - ECPv6.15.15//NONSGML v1.0//EN
CALSCALE:GREGORIAN
METHOD:PUBLISH
X-WR-CALNAME:Temac S.A.
X-ORIGINAL-URL:https://temac.com.uy
X-WR-CALDESC:Eventos para Temac S.A.
REFRESH-INTERVAL;VALUE=DURATION:PT1H
X-Robots-Tag:noindex
X-PUBLISHED-TTL:PT1H
BEGIN:VTIMEZONE
TZID:America/Montevideo
BEGIN:STANDARD
TZOFFSETFROM:-0300
TZOFFSETTO:-0300
TZNAME:-03
DTSTART:20240101T000000
END:STANDARD
END:VTIMEZONE
BEGIN:VEVENT
DTSTART;TZID=America/Montevideo:20250505T080000
DTEND;TZID=America/Montevideo:20250522T130000
DTSTAMP:20260420T004025
CREATED:20250319T144917Z
LAST-MODIFIED:20250319T144938Z
UID:12036-1746432000-1747918800@temac.com.uy
SUMMARY:HIDRÁULICA INDUSTRIAL Y MANTENIMIENTO 2025 | 05/05/-22/05 | TEMAC DIDACTIC URUGUAY
DESCRIPTION:  \n⚠️Cupos limitados⚠️\nCAPACITACIÓN Hidráulica Industrial y Mantenimiento. \n📌INSCRIPCIONES abiertas abonando HASTA el 21/04/25. \nIncluye todo el material didáctico y CERTIFICACIÓN. \n📌COMIENZO: 05/05/25 – FIN: 22/05/25. \n📍UBICACIÓN: Montevideo\, Isabela 3264 (sala de capacitación de la empresa) \n📌HORARIO:\nMatutino: 08:00-13:00. \n📌DURACIÓN:\n40 hs. \nConsultar por otras fechas y horarios. \n📌FORMAS DE PAGO:\n*Contado.\n*Transferencia bancaria.\n*Mercado Pago. \n✅CONTENIDO ESQUEMÁTICO:\n• Funciones de un equipo hidráulico.\n• Fundamentos físicos de la hidráulica.\n• Fluidos a presión.\n• Componentes de un alimentador de: accionamiento\, bomba\, acoplamiento\, depósito\, filtro\, calefacción\, etc.\n• Medición de la presión en sistemas de control neumáticos.\n• Actuadores.\n• Tipos y valores característicos de válvulas hidráulicas.\n• Válvulas reguladoras de presión.\n• Válvulas distribuidoras.\n• Válvulas de anti retorno.\n• Válvulas de caudal.\n• Válvulas porporcionales.\n• Accesorios.\n• Descripciones de secuencias de trabajos de máquinas y equipos.\n• Estructuras de los esquemas de circuitos: esquema de distribución hidráulico y esquema eléctrico.\n• Símbolos. \n👉Por inscripciones/consultas:\n📩Correo: didactica@temac.com.uy.\n📲WhatsApp: 099 709 098. \n#temacuy #somostemac #ingenieriauruguay #solucionesindustriales #festo #kaeser #calidaddeaire #automatismos #neumatica #electroneumatica
URL:https://temac.com.uy/curso/hidraulica-industrial-y-mantenimiento-2025-05-05-22-05-temac-didactic-uruguay/
LOCATION:Temac S..A.\, Isabela 3264\, Montevideo\, Uruguay
CATEGORIES:Capacitación,Cursos,Hidráulica Industrial y Mantenimiento
ATTACH;FMTTYPE=image/jpeg:https://temac.com.uy/wp-content/uploads/2025/03/photo_2025-03-19_11-28-10.jpg
ORGANIZER;CN="Jos%C3%A9 Romay":MAILTO:didactica@temac.com.uy
END:VEVENT
END:VCALENDAR