BEGIN:VCALENDAR
VERSION:2.0
PRODID:-//Temac S.A. - ECPv6.15.15//NONSGML v1.0//EN
CALSCALE:GREGORIAN
METHOD:PUBLISH
X-ORIGINAL-URL:https://temac.com.uy
X-WR-CALDESC:Eventos para Temac S.A.
REFRESH-INTERVAL;VALUE=DURATION:PT1H
X-Robots-Tag:noindex
X-PUBLISHED-TTL:PT1H
BEGIN:VTIMEZONE
TZID:America/Montevideo
BEGIN:STANDARD
TZOFFSETFROM:-0300
TZOFFSETTO:-0300
TZNAME:-03
DTSTART:20250101T000000
END:STANDARD
END:VTIMEZONE
BEGIN:VEVENT
DTSTART;TZID=America/Montevideo:20260326T110000
DTEND;TZID=America/Montevideo:20260326T120000
DTSTAMP:20260419T203336
CREATED:20260324T014104Z
LAST-MODIFIED:20260324T014104Z
UID:12846-1774522800-1774526400@temac.com.uy
SUMMARY:Agrosoluciones Uruguay inteligentes: más cosecha y menos imprevistos - webinar ifm - TEMAC S.A.
DESCRIPTION:Webinar técnico de TEMAC S.A. junto a ifm\nInscribite aquí \nLa evolución del agro está cada vez más ligada a la automatización\, el monitoreo inteligente y la toma de decisiones basada en datos. En un entorno donde cada variable impacta en el rendimiento\, contar con información precisa en tiempo real se vuelve clave para anticipar fallas\, optimizar recursos y mejorar la productividad. \nEn este contexto\, TEMAC S.A.\, junto a soluciones de ifm\, presenta el webinar “Agrosoluciones: más cosecha y menos imprevistos\, con monitoreo inteligente”\, una instancia orientada a profesionales\, técnicos y empresas del sector agroindustrial que buscan integrar tecnología a sus procesos. \nDurante la capacitación se abordará cómo sensar\, conectar y actuar sobre lo que ocurre en campo y en maquinaria agrícola\, desde la fabricación o retrofit de equipos hasta su operación en cultivos a gran escala. Se explorará la integración de sensores industriales\, sistemas de identificación y visión\, y la transmisión de datos mediante IO-Link hacia controladores PLC y plataformas IIoT\, permitiendo visualizar información\, generar alertas y aplicar estrategias de mantenimiento predictivo. \nAdemás\, se presentarán conceptos de seguridad funcional\, fundamentales para operar con mayor disponibilidad\, protección y continuidad en entornos exigentes. \n📅 Fecha: 26 de marzo – 11:00 hs.\n📩 Cupos limitados – inscripción previa requerida. \nEstas iniciativas forman parte del compromiso de TEMAC S.A. con la capacitación técnica y la incorporación de soluciones innovadoras para el desarrollo del agro y la industria en Uruguay. \nPara más información o asesoramiento técnico:\n📩 ventas@temac.com.uy\n📲 092 662 057 \nSomos eficiencia. Somos TEMAC S.A.
URL:https://temac.com.uy/curso/agrosoluciones-uruguay-inteligentes-mas-cosecha-y-menos-imprevistos-webinar-ifm-temac-s-a/
LOCATION:WEB\, WEB\, https://www.ifm.com/gb/en/shared/events/webinar/food-safety\, Uruguay
CATEGORIES:Automatización Industrial,Capacitación,Conferencias,ifm,Webinar
ATTACH;FMTTYPE=image/jpeg:https://temac.com.uy/wp-content/uploads/2026/03/photo_1_2026-03-23_22-29-27.jpg
END:VEVENT
END:VCALENDAR